BEGIN:VCALENDAR
VERSION:2.0
PRODID:-//ESIP - ECPv6.15.17.1//NONSGML v1.0//EN
CALSCALE:GREGORIAN
METHOD:PUBLISH
X-WR-CALNAME:ESIP
X-ORIGINAL-URL:https://www.esipfed.org
X-WR-CALDESC:Events for ESIP
REFRESH-INTERVAL;VALUE=DURATION:PT1H
X-Robots-Tag:noindex
X-PUBLISHED-TTL:PT1H
BEGIN:VTIMEZONE
TZID:America/New_York
BEGIN:DAYLIGHT
TZOFFSETFROM:-0500
TZOFFSETTO:-0400
TZNAME:EDT
DTSTART:20230312T070000
END:DAYLIGHT
BEGIN:STANDARD
TZOFFSETFROM:-0400
TZOFFSETTO:-0500
TZNAME:EST
DTSTART:20231105T060000
END:STANDARD
BEGIN:DAYLIGHT
TZOFFSETFROM:-0500
TZOFFSETTO:-0400
TZNAME:EDT
DTSTART:20240310T070000
END:DAYLIGHT
BEGIN:STANDARD
TZOFFSETFROM:-0400
TZOFFSETTO:-0500
TZNAME:EST
DTSTART:20241103T060000
END:STANDARD
BEGIN:DAYLIGHT
TZOFFSETFROM:-0500
TZOFFSETTO:-0400
TZNAME:EDT
DTSTART:20250309T070000
END:DAYLIGHT
BEGIN:STANDARD
TZOFFSETFROM:-0400
TZOFFSETTO:-0500
TZNAME:EST
DTSTART:20251102T060000
END:STANDARD
END:VTIMEZONE
BEGIN:VEVENT
DTSTART;TZID=America/New_York:20240409T140000
DTEND;TZID=America/New_York:20240409T150000
DTSTAMP:20260420T105735
CREATED:20240319T182448Z
LAST-MODIFIED:20240321T154346Z
UID:10003677-1712671200-1712674800@www.esipfed.org
SUMMARY:Program Committee
DESCRIPTION:Monthly on the third Wednesday. Join via Zoom. All meetings are scheduled in U.S. Eastern Time Zone. Convert to your time zone. \nThe  ESIP Program Committee meets regularly to guide ESIP programs and includes the Vice-President and all the technical and administrative committee chairs.  \n\nStay in the loop for all ESIP events: esipfed.org/subscribe\nLearn more about all ESIP Collaboration Areas: esipfed.org/collaborate
URL:https://www.esipfed.org/event/program-committee/
LOCATION:https://esipfed-org.zoom.us/j/82985322213?pwd=SDJJY0NXNWRib0piaW9zUHh4ODFDQT09
CATEGORIES:Administrative Committees
ATTACH;FMTTYPE=image/png:https://www.esipfed.org/wp-content/uploads/2024/03/ESIP-featured-image.png
END:VEVENT
END:VCALENDAR